BEGIN:VCALENDAR
VERSION:2.0
PRODID:-//wp-events-plugin.com//7.2.3.1//EN
TZID:America/Vancouver
X-WR-TIMEZONE:America/Vancouver
BEGIN:VEVENT
UID:160@eruc.ca
DTSTART;TZID=America/Vancouver:20251221T180000
DTEND;TZID=America/Vancouver:20251221T190000
DTSTAMP:20251121T220158Z
URL:https://eruc.ca/events/blue-christmas-service/
SUMMARY:Blue Christmas Service
DESCRIPTION:
END:VEVENT
BEGIN:VTIMEZONE
TZID:America/Vancouver
X-LIC-LOCATION:America/Vancouver
BEGIN:STANDARD
DTSTART:20251102T010000
TZOFFSETFROM:-0700
TZOFFSETTO:-0800
TZNAME:PST
END:STANDARD
END:VTIMEZONE
END:VCALENDAR