BEGIN:VCALENDAR
VERSION:2.0
PRODID:-//wp-events-plugin.com//7.2.3.1//EN
TZID:America/Vancouver
X-WR-TIMEZONE:America/Vancouver
BEGIN:VEVENT
UID:159@eruc.ca
DTSTART;TZID=America/Vancouver:20251221T100000
DTEND;TZID=America/Vancouver:20251221T110000
DTSTAMP:20251121T215240Z
URL:https://eruc.ca/events/sunday-club-christmas-pageant-2/
SUMMARY:Sunday Club Christmas Pageant
DESCRIPTION:
END:VEVENT
BEGIN:VTIMEZONE
TZID:America/Vancouver
X-LIC-LOCATION:America/Vancouver
BEGIN:STANDARD
DTSTART:20251102T010000
TZOFFSETFROM:-0700
TZOFFSETTO:-0800
TZNAME:PST
END:STANDARD
END:VTIMEZONE
END:VCALENDAR